Workbook

Sheet _Pregled NEW
A1: Year | B1: ID_Court | C1: Court | D1: Instance level | E1: Entity | F1: Entitet | G1: Ентитет | H1: Incoming cases | I1: Resolved cases | J1: Pending cases 31 Dec | K1: Efficiency Indicator | L1: Clearance Rate | M1: Clearance Rate - Points | N1: Disposition Time | O1: Disposition Time - Points | P1: Average age of pending cases | Q1: Average duration of resolved cases | R1: Ratio Resolved and Pending Cases | S1: Ratio Resolved and Pending Cases - Points | T1: Realisations of Annual Plan | U1: Realisations of Annual Plan - Points | V1: Implementation of Annual Court Norm | W1: Implementation of Annual Court Norm - Points | X1: Approved budget | Y1: Approved budget without capital investments | Z1: Implemented budget without capital investments | AA1: Cost per cases of approved budget | AB1: Cost per Cases of Implemented Budget | AC1: Cost per Cases of Implemented Budget - Points | AD1: Statistical Quality | AE1: Statistical Quality - Points | AF1: Systematized positions | AG1: Filled position | AH1: Unfilled positions
A2: 2024 | B2: 115 | C2: APELACIONI SUD BRČKO DISTRIKTA BIH | D2: 5 | E2: Brcko District of Bosnia and Herzegovina | F2: Brčko Distrikt Bosne i Hercegovine | G2: Брчко Дистрикт Босне и Херцеговине | H2: 894 | I2: 787 | J2: 252 | K2: 79 | L2: 0.8803132 | M2: 7 | N2: 116.87421 | O2: 4 | P2: 79.209205 | Q2: 97.011436 | R2: 1.2247495 | S2: 30 | T2: 0.96 | U2: 18 | V2: 1.7812 | W2: 10 | X2: 1631212 | Y2: 1591212 | Z2: 1493282 | AA2: 2021.8704 | AB2: 1897.4358 | AC2: 1 | AD2: N/a | AE2: 0 | AF2: 7 | AG2: 6 | AH2: 1
A3: 2024 | B3: 1 | C3: KANTONALNI SUD U BIHAĆU | D3: 2 | E3: Federation of Bosnia and Herzegovina | F3: Federacija Bosne i Hercegovine | G3: Федерација Босне и Херцеговине | H3: 3079 | I3: 3061 | J3: 627 | K3: 79.5 | L3: 0.99415395 | M3: 10 | N3: 74.764783 | O3: 4.5 | P3: 65.365979 | Q3: 76.122509 | R3: 1.1645585 | S3: 30 | T3: 0.99 | U3: 19 | V3: 1.1713 | W3: 9 | X3: 3844533 | Y3: 3554533 | Z3: 3481486 | AA3: 1161.2326 | AB3: 1137.3688 | AC3: 5 | AD3: 0.8651 | AE3: 7 | AF3: 13 | AG3: 8 | AH3: 5
A4: 2024 | B4: 5 | C4: KANTONALNI SUD U GORAŽDU | D4: 2 | E4: Federation of Bosnia and Herzegovina | F4: Federacija Bosne i Hercegovine | G4: Федерација Босне и Херцеговине | H4: 214 | I4: 211 | J4: 5 | K4: 75 | L4: 0.98598131 | M4: 10 | N4: 8.6492891 | O4: 5 | P4: 18 | Q4: 31.725118 | R4: 1.7625066 | S4: 30 | T4: 1 | U4: 20 | V4: 0.3191 | W4: 0 | X4: 984642 | Y4: 933642 | Z4: 800334 | AA4: 4424.8436 | AB4: 3793.0521 | AC4: 0 | AD4: 1 | AE4: 10 | AF4: 3 | AG4: 2 | AH4: 1
A5: 2024 | B5: 10 | C5: KANTONALNI SUD U LIVNU | D5: 2 | E5: Federation of Bosnia and Herzegovina | F5: Federacija Bosne i Hercegovine | G5: Федерација Босне и Херцеговине | H5: 892 | I5: 1135 | J5: 288 | K5: 84.5 | L5: 1.2724215 | M5: 15 | N5: 92.61674 | O5: 4.5 | P5: 148.07914 | Q5: 171.02203 | R5: 1.1549367 | S5: 30 | T5: 1 | U5: 20 | V5: 1.0641 | W5: 7 | X5: 1246854 | Y5: 1166854 | Z5: 1127254 | AA5: 1028.0652 | AB5: 993.17533 | AC5: 6 | AD5: 0.8928 | AE5: 8 | AF5: 5 | AG5: 5 | AH5: 0
A6: 2024 | B6: 7 | C6: KANTONALNI SUD U MOSTARU | D6: 2 | E6: Federation of Bosnia and Herzegovina | F6: Federacija Bosne i Hercegovine | G6: Федерација Босне и Херцеговине | H6: 8705 | I6: 7891 | J6: 4287 | K6: 71.5 | L6: 0.90649052 | M6: 8 | N6: 198.29616 | O6: 3.5 | P6: 250.06476 | Q6: 207.35247 | R6: 0.8291951 | S6: 23 | T6: 0.99 | U6: 19 | V6: 1.1723 | W6: 9 | X6: 4172300 | Y6: 4152300 | Z6: 4118560 | AA6: 526.20707 | AB6: 521.93131 | AC6: 8 | AD6: 0.9413 | AE6: 9 | AF6: 20 | AG6: 19 | AH6: 1
A7: 2024 | B7: 6 | C7: KANTONALNI SUD U NOVOM TRAVNIKU | D7: 2 | E7: Federation of Bosnia and Herzegovina | F7: Federacija Bosne i Hercegovine | G7: Федерација Босне и Херцеговине | H7: 2273 | I7: 2197 | J7: 656 | K7: 78 | L7: 0.96656401 | M7: 9 | N7: 108.98498 | O7: 4 | P7: 90.813084 | Q7: 109.62995 | R7: 1.2072043 | S7: 30 | T7: 0.99 | U7: 19 | V7: 1.1618 | W7: 9 | X7: 3756600 | Y7: 3350200 | Z7: 2758273 | AA7: 1524.8976 | AB7: 1255.4725 | AC7: 4 | AD7: 0.8725 | AE7: 7 | AF7: 11 | AG7: 8 | AH7: 3
A8: 2024 | B8: 2 | C8: KANTONALNI SUD U ODŽAKU | D8: 2 | E8: Federation of Bosnia and Herzegovina | F8: Federacija Bosne i Hercegovine | G8: Федерација Босне и Херцеговине | H8: 301 | I8: 260 | J8: 50 | K8: 54.5 | L8: 0.86378738 | M8: 6 | N8: 70.192308 | O8: 4.5 | P8: 99.723404 | Q8: 73.142308 | R8: 0.73345177 | S8: 19 | T8: 0.98 | U8: 19 | V8: 0.6056 | W8: 0 | X8: 978710 | Y8: 959710 | Z8: 948478 | AA8: 3691.1923 | AB8: 3647.9923 | AC8: 0 | AD8: 0.8095 | AE8: 6 | AF8: 4 | AG8: 4 | AH8: 0
A9: 2024 | B9: 9 | C9: KANTONALNI SUD U SARAJEVU | D9: 2 | E9: Federation of Bosnia and Herzegovina | F9: Federacija Bosne i Hercegovine | G9: Федерација Босне и Херцеговине | H9: 10272 | I9: 12394 | J9: 12149 | K9: 82.5 | L9: 1.206581 | M9: 15 | N9: 357.78482 | O9: 1.5 | P9: 505.17317 | Q9: 641.59827 | R9: 1.2700561 | S9: 30 | T9: 0.96 | U9: 18 | V9: 1.2621 | W9: 10 | X9: 14134037 | Y9: 13698987 | Z9: 14213720 | AA9: 1105.2918 | AB9: 1146.8227 | AC9: 5 | AD9: 0.8821 | AE9: 8 | AF9: 51 | AG9: 46 | AH9: 5
A10: 2024 | B10: 8 | C10: KANTONALNI SUD U ŠIROKOM BRIJEGU | D10: 2 | E10: Federation of Bosnia and Herzegovina | F10: Federacija Bosne i Hercegovine | G10: Федерација Босне и Херцеговине | H10: 1142 | I10: 935 | J10: 1628 | K10: 68 | L10: 0.81873905 | M10: 5 | N10: 635.52941 | O10: 0 | P10: 352.48267 | Q10: 500.72406 | R10: 1.4205636 | S10: 30 | T10: 0.97 | U10: 18 | V10: 1.1342 | W10: 8 | X10: 1589800 | Y10: 1443800 | Z10: 1099312 | AA10: 1544.1711 | AB10: 1175.7348 | AC10: 5 | AD10: 0.8569 | AE10: 7 | AF10: 4 | AG10: 3 | AH10: 1
A11: 2024 | B11: 3 | C11: KANTONALNI SUD U TUZLI | D11: 2 | E11: Federation of Bosnia and Herzegovina | F11: Federacija Bosne i Hercegovine | G11: Федерација Босне и Херцеговине | H11: 5182 | I11: 7010 | J11: 2947 | K11: 82.5 | L11: 1.3527596 | M11: 15 | N11: 153.44579 | O11: 3.5 | P11: 229.79181 | Q11: 301.67204 | R11: 1.3128059 | S11: 30 | T11: 0.99 | U11: 19 | V11: 1.1387 | W11: 8 | X11: 6241483 | Y11: 6241483 | Z11: 6655486 | AA11: 890.36847 | AB11: 949.42739 | AC11: 6 | AD11: 0.863 | AE11: 7 | AF11: 30 | AG11: 26 | AH11: 4
A12: 2024 | B12: 4 | C12: KANTONALNI SUD U ZENICI | D12: 2 | E12: Federation of Bosnia and Herzegovina | F12: Federacija Bosne i Hercegovine | G12: Федерација Босне и Херцеговине | H12: 3536 | I12: 3570 | J12: 366 | K12: 78 | L12: 1.0096154 | M12: 10 | N12: 37.420168 | O12: 5 | P12: 41.526611 | Q12: 41.283754 | R12: 0.99415177 | S12: 29 | T12: 1 | U12: 20 | V12: 0.9604 | W12: 6 | X12: 4507017 | Y12: 4306017 | Z12: 4253035 | AA12: 1206.1672 | AB12: 1191.3263 | AC12: 5 | AD12: 0.8883 | AE12: 8 | AF12: 19 | AG12: 18 | AH12: 1
A13: 2024 | B13: 161 | C13: OKRUŽNI PRIVREDNI SUD U BANJOJ LUCI | D13: 1 | E13: Republika Srpska | F13: Republika Srpska | G13: Република Српска | H13: 2667 | I13: 2637 | J13: 1515 | K13: 65 | L13: 0.98875141 | M13: 10 | N13: 209.69852 | O13: 3 | P13: 226.68374 | Q13: 197.35533 | R13: 0.87061968 | S13: 25 | T13: 0.96 | U13: 18 | V13: 0 | W13: 0 | X13: 3051500 | Y13: 3041500 | Z13: 3192800 | AA13: 1153.394 | AB13: 1210.7698 | AC13: 4 | AD13: 0.9418 | AE13: 9 | AF13: 13 | AG13: 3 | AH13: 10
A14: 2024 | B14: 162 | C14: OKRUŽNI PRIVREDNI SUD U BIJELJINI | D14: 1 | E14: Republika Srpska | F14: Republika Srpska | G14: Република Српска | H14: 1012 | I14: 1049 | J14: 373 | K14: 71 | L14: 1.0365613 | M14: 11 | N14: 129.78551 | O14: 4 | P14: 208.60322 | Q14: 156.64728 | R14: 0.75093417 | S14: 21 | T14: 0.97 | U14: 18 | V14: 1.3847 | W14: 10 | X14: 1103400 | Y14: 1098400 | Z14: 1058827 | AA14: 1047.0925 | AB14: 1009.368 | AC14: 5 | AD14: 0.8663 | AE14: 7 | AF14: 4 | AG14: 2 | AH14: 2
... A81: 2024 | B81: 160 | C81: VIŠI PRIVREDNI SUD U BANJOJ LUCI | D81: 2 | E81: Republika Srpska | F81: Republika Srpska | G81: Република Српска | H81: 898 | I81: 888 | J81: 43 | K81: 74 | L81: 0.98886414 | M81: 10 | N81: 17.67455 | O81: 5 | P81: 14.860465 | Q81: 43.661036 | R81: 2.9380666 | S81: 30 | T81: 1 | U81: 20 | V81: 0 | W81: 0 | X81: 1590400 | Y81: 1442400 | Z81: 1363424 | AA81: 1624.3243 | AB81: 1535.3874 | AC81: 3 | AD81: 0.9582 | AE81: 9 | AF81: 7 | AG81: 6 | AH81: 1
A82: 2024 | B82: 70 | C82: VRHOVNI SUD FBIH | D82: 3 | E82: Federation of Bosnia and Herzegovina | F82: Federacija Bosne i Hercegovine | G82: Федерација Босне и Херцеговине | H82: 4291 | I82: 4918 | J82: 670 | K82: 79 | L82: 1.1461198 | M82: 14 | N82: 49.725498 | O82: 5 | P82: 108.08696 | Q82: 93.080927 | R82: 0.86116707 | S82: 24 | T82: 1 | U82: 20 | V82: 1.0437 | W82: 6 | X82: 12094802 | Y82: 11464202 | Z82: 9397789 | AA82: 2331.0699 | AB82: 1910.8965 | AC82: 1 | AD82: N/a | AE82: 10 | AF82: 45 | AG82: 22 | AH82: 23
A83: 2024 | B83: 118 | C83: VRHOVNI SUD REPUBLIKE SRPSKE | D83: 3 | E83: Republika Srpska | F83: Republika Srpska | G83: Република Српска | H83: 2907 | I83: 2694 | J83: 2316 | K83: 79 | L83: 0.92672859 | M83: 8 | N83: 313.78619 | O83: 2 | P83: 258.31477 | Q83: 280.68597 | R83: 1.0866044 | S83: 30 | T83: 1 | U83: 20 | V83: 1.1376 | W83: 8 | X83: 4460300 | Y83: 4450300 | Z83: 3812163 | AA83: 1651.9302 | AB83: 1415.0568 | AC83: 3 | AD83: N/a | AE83: 10 | AF83: 23 | AG83: 20 | AH83: 3
A84: 2023 | B84: 115 | C84: APELACIONI SUD BRČKO DISTRIKTA BIH | D84: 5 | E84: Brcko District of Bosnia and Herzegovina | F84: Brčko Distrikt Bosne i Hercegovine | G84: Брчко Дистрикт Босне и Херцеговине | H84: 743 | I84: 714 | J84: 145 | K84: 86 | L84: 0.96096904 | M84: 9 | N84: 74.12465 | O84: 4 | P84: 55.310345 | Q84: 63.32493 | R84: 1.1449021 | S84: 30 | T84: 0.98 | U84: 19 | V84: 1.205 | W84: 10 | X84: 1356792 | Y84: 1346792 | Z84: 1478404 | AA84: 1886.2633 | AB84: 2070.5938 | AC84: 4 | AD84: N/a | AE84: 10 | AF84: 8 | AG84: 7 | AH84: 1
A85: 2023 | B85: 83 | C85: OSNOVNI SUD U ZVORNIKU | D85: 1 | E85: Republika Srpska | F85: Republika Srpska | G85: Република Српска | H85: 2862 | I85: 3059 | J85: 1287 | K85: 69 | L85: 1.068833 | M85: 12 | N85: 153.56489 | O85: 4 | P85: 337.16939 | Q85: 168.31546 | R85: 0.4992015 | S85: 12 | T85: 0.912 | U85: 15 | V85: 1.2679 | W85: 10 | X85: 1569900 | Y85: 1566900 | Z85: 1778427 | AA85: 512.22622 | AB85: 583.24322 | AC85: 9 | AD85: 0.8789 | AE85: 7 | AF85: 8 | AG85: 8 | AH85: 0
A86: 2023 | B86: 1 | C86: KANTONALNI SUD U BIHAĆU | D86: 2 | E86: Federation of Bosnia and Herzegovina | F86: Federacija Bosne i Hercegovine | G86: Федерација Босне и Херцеговине | H86: 3195 | I86: 3134 | J86: 609 | K86: 63.5 | L86: 0.98090767 | M86: 10 | N86: 70.92693 | O86: 4.5 | P86: 202.12479 | Q86: 66.383535 | R86: 0.32842846 | S86: 5 | T86: 0.995 | U86: 20 | V86: 1.2515 | W86: 10 | X86: 3545773 | Y86: 3475773 | Z86: 3193366 | AA86: 1109.0533 | AB86: 1018.9426 | AC86: 7 | AD86: 0.863 | AE86: 7 | AF86: 18 | AG86: 14 | AH86: 4
A87: 2023 | B87: 33 | C87: OPĆINSKI SUD U ŽIVINICAMA | D87: 1 | E87: Federation of Bosnia and Herzegovina | F87: Federacija Bosne i Hercegovine | G87: Федерација Босне и Херцеговине | H87: 4789 | I87: 4828 | J87: 4328 | K87: 73.5 | L87: 1.0081437 | M87: 10 | N87: 327.19967 | O87: 1.5 | P87: 374.45633 | Q87: 385.28107 | R87: 1.0289079 | S87: 30 | T87: 0.791 | U87: 9 | V87: 0.9851 | W87: 6 | X87: 3167832 | Y87: 3167832 | Z87: 2799041 | AA87: 656.13753 | AB87: 579.75166 | AC87: 9 | AD87: 0.9191 | AE87: 8 | AF87: 20 | AG87: 14 | AH87: 6
A88: 2023 | B88: 5 | C88: KANTONALNI SUD U GORAŽDU | D88: 2 | E88: Federation of Bosnia and Herzegovina | F88: Federacija Bosne i Hercegovine | G88: Федерација Босне и Херцеговине | H88: 219 | I88: 220 | J88: 2 | K88: 74 | L88: 1.0045662 | M88: 13 | N88: 3.3181818 | O88: 5 | P88: 29.5 | Q88: 32.781818 | R88: 1.1112481 | S88: 30 | T88: 1 | U88: 20 | V88: 0.2755 | W88: 0 | X88: 832198 | Y88: 826198 | Z88: 721772 | AA88: 3755.4455 | AB88: 3280.7818 | AC88: 0 | AD88: 1 | AE88: 6 | AF88: 4 | AG88: 4 | AH88: 0
A89: 2023 | B89: 44 | C89: OPĆINSKI SUD U ŽEPČU | D89: 1 | E89: Federation of Bosnia and Herzegovina | F89: Federacija Bosne i Hercegovine | G89: Федерација Босне и Херцеговине | H89: 1599 | I89: 1761 | J89: 1429 | K89: 78 | L89: 1.1013133 | M89: 13 | N89: 296.18683 | O89: 2 | P89: 331.61162 | Q89: 249.38728 | R89: 0.75204627 | S89: 21 | T89: 0.916 | U89: 16 | V89: 1.2603 | W89: 10 | X89: 999812 | Y89: 984812 | Z89: 926549 | AA89: 559.23453 | AB89: 526.14935 | AC89: 9 | AD89: 0.8522 | AE89: 7 | AF89: 6 | AG89: 5 | AH89: 1
A90: 2023 | B90: 10 | C90: KANTONALNI SUD U LIVNU | D90: 2 | E90: Federation of Bosnia and Herzegovina | F90: Federacija Bosne i Hercegovine | G90: Федерација Босне и Херцеговине | H90: 957 | I90: 1069 | J90: 531 | K90: 83 | L90: 1.1170324 | M90: 13 | N90: 181.30496 | O90: 2 | P90: 272.27307 | Q90: 241.80075 | R90: 0.88808177 | S90: 25 | T90: 1 | U90: 20 | V90: 1.109 | W90: 8 | X90: 1143822 | Y90: 1128822 | Z90: 1028017 | AA90: 1055.9607 | AB90: 961.6623 | AC90: 7 | AD90: 0.8874 | AE90: 8 | AF90: 5 | AG90: 4 | AH90: 1
A91: 2023 | B91: 4 | C91: KANTONALNI SUD U ZENICI | D91: 2 | E91: Federation of Bosnia and Herzegovina | F91: Federacija Bosne i Hercegovine | G91: Федерација Босне и Херцеговине | H91: 4165 | I91: 4107 | J91: 400 | K91: 68 | L91: 0.98607443 | M91: 10 | N91: 35.549063 | O91: 5 | P91: 75.2475 | Q91: 36.866082 | R91: 0.48993099 | S91: 11 | T91: 0.999 | U91: 20 | V91: 1.0322 | W91: 7 | X91: 3730966 | Y91: 3683966 | Z91: 4012429 | AA91: 479.13758 | AB91: 976.97322 | AC91: 7 | AD91: 0.9153 | AE91: 8 | AF91: 20 | AG91: 18 | AH91: 2
A92: 2023 | B92: 7 | C92: KANTONALNI SUD U MOSTARU | D92: 2 | E92: Federation of Bosnia and Herzegovina | F92: Federacija Bosne i Hercegovine | G92: Федерација Босне и Херцеговине | H92: 2986 | I92: 4375 | J92: 3474 | K92: 87 | L92: 1.4651708 | M92: 15 | N92: 289.83086 | O92: 1 | P92: 419.97035 | Q92: 566.97806 | R92: 1.3500431 | S92: 30 | T92: 0.99 | U92: 19 | V92: 1.0633 | W92: 7 | X92: 3670000 | Y92: 3650000 | Z92: 3673793 | AA92: 523.44053 | AB92: 839.72411 | AC92: 8 | AD92: 0.8471 | AE92: 7 | AF92: 21 | AG92: 21 | AH92: 0
A93: 2023 | B93: 43 | C93: OPĆINSKI SUD U ZENICI | D93: 1 | E93: Federation of Bosnia and Herzegovina | F93: Federacija Bosne i Hercegovine | G93: Федерација Босне и Херцеговине | H93: 14364 | I93: 13759 | J93: 9681 | K93: 83.5 | L93: 0.95788081 | M93: 9 | N93: 256.81845 | O93: 2.5 | P93: 240.27118 | Q93: 221.59016 | R93: 0.92225027 | S93: 26 | T93: 0.961 | U93: 18 | V93: 1.6425 | W93: 10 | X93: 7904554 | Y93: 6592454 | Z93: 5872267 | AA93: 479.13758 | AB93: 426.79461 | AC93: 9 | AD93: 0.9661 | AE93: 9 | AF93: 46 | AG93: 32 | AH93: 14
A94: 2023 | B94: 6 | C94: KANTONALNI SUD U NOVOM TRAVNIKU | D94: 2 | E94: Federation of Bosnia and Herzegovina | F94: Federacija Bosne i Hercegovine | G94: Федерација Босне и Херцеговине | H94: 2167 | I94: 2218 | J94: 580 | K94: 80 | L94: 1.0235348 | M94: 11 | N94: 95.446348 | O94: 4 | P94: 133.54828 | Q94: 113.24031 | R94: 0.84793537 | S94: 24 | T94: 0.99 | U94: 19 | V94: 1.033 | W94: 7 | X94: 3202700 | Y94: 3155700 | Z94: 2573356 | AA94: 1422.7683 | AB94: 1160.2146 | AC94: 7 | AD94: 0.8803 | AE94: 8 | AF94: 15 | AG94: 11 | AH94: 4
A95: 2023 | B95: 42 | C95: OPĆINSKI SUD U ZAVIDOVIĆIMA | D95: 1 | E95: Federation of Bosnia and Herzegovina | F95: Federacija Bosne i Hercegovine | G95: Федерација Босне и Херцеговине | H95: 4041 | I95: 4203 | J95: 2366 | K95: 75 | L95: 1.0400891 | M95: 11 | N95: 205.4699 | O95: 3 | P95: 302.36052 | Q95: 201.88603 | R95: 0.66769971 | S95: 17 | T95: 0.94 | U95: 17 | V95: 1.1683 | W95: 9 | X95: 2253657 | Y95: 2171657 | Z95: 2275897 | AA95: 516.69212 | AB95: 541.49346 | AC95: 9 | AD95: 0.9523 | AE95: 9 | AF95: 15 | AG95: 11 | AH95: 4
A96: 2023 | B96: 2 | C96: KANTONALNI SUD U ODŽAKU | D96: 2 | E96: Federation of Bosnia and Herzegovina | F96: Federacija Bosne i Hercegovine | G96: Федерација Босне и Херцеговине | H96: 312 | I96: 307 | J96: 9 | K96: 44 | L96: 0.98397436 | M96: 10 | N96: 10.700326 | O96: 5 | P96: 1922.3333 | Q96: 21.931596 | R96: 0.011408841 | S96: 0 | T96: 1 | U96: 20 | V96: 0.619 | W96: 0 | X96: 875000 | Y96: 869000 | Z96: 877955 | AA96: 2830.6189 | AB96: 2859.7883 | AC96: 1 | AD96: 0.8942 | AE96: 8 | AF96: 4 | AG96: 4 | AH96: 0
... A133: 2023 | B133: 36 | C133: OPĆINSKI SUD U KAKNJU | D133: 1 | E133: Federation of Bosnia and Herzegovina | F133: Federacija Bosne i Hercegovine | G133: Федерација Босне и Херцеговине | H133: 3437 | I133: 3099 | J133: 2482 | K133: 58 | L133: 0.90165842 | M133: 8 | N133: 292.32978 | O133: 2 | P133: 498.93513 | Q133: 195.5363 | R133: 0.39190726 | S133: 8 | T133: 0.887 | U133: 14 | V133: 1.0811 | W133: 8 | X133: 1456475 | Y133: 1372683 | Z133: 1640756 | AA133: 442.94385 | AB133: 529.44692 | AC133: 9 | AD133: 0.9669 | AE133: 9 | AF133: 8 | AG133: 8 | AH133: 0
A134: 2023 | B134: 118 | C134: VRHOVNI SUD REPUBLIKE SRPSKE | D134: 3 | E134: Republika Srpska | F134: Republika Srpska | G134: Република Српска | H134: 2719 | I134: 2737 | J134: 2103 | K134: 85 | L134: 1.0066201 | M134: 10 | N134: 280.45122 | O134: 1 | P134: 259 | Q134: 285.31239 | R134: 1.1015922 | S134: 30 | T134: 1 | U134: 20 | V134: 1.1853 | W134: 9 | X134: 3719800 | Y134: 3699800 | Z134: 4220129 | AA134: 1351.772 | AB134: 1541.8813 | AC134: 5 | AD134: N/a | AE134: 10 | AF134: 26 | AG134: 25 | AH134: 1
A135: 2023 | B135: 29 | C135: OPĆINSKI SUD U KALESIJI | D135: 1 | E135: Federation of Bosnia and Herzegovina | F135: Federacija Bosne i Hercegovine | G135: Федерација Босне и Херцеговине | H135: 2350 | I135: 2253 | J135: 2694 | K135: 56 | L135: 0.9587234 | M135: 9 | N135: 436.44474 | O135: 1 | P135: 529.71826 | Q135: 314.67066 | R135: 0.59403401 | S135: 15 | T135: 0.81 | U135: 10 | V135: 1.0022 | W135: 6 | X135: 1333856 | Y135: 1333856 | Z135: 1439546 | AA135: 592.03551 | AB135: 638.94629 | AC135: 8 | AD135: 0.8208 | AE135: 7 | AF135: 6 | AG135: 6 | AH135: 0
A136: 2023 | B136: 78 | C136: OSNOVNI SUD U PRNJAVORU | D136: 1 | E136: Republika Srpska | F136: Republika Srpska | G136: Република Српска | H136: 2481 | I136: 2538 | J136: 1133 | K136: 82 | L136: 1.0229746 | M136: 11 | N136: 162.94129 | O136: 4 | P136: 185.33892 | Q136: 193.30299 | R136: 1.0429703 | S136: 30 | T136: 0.883 | U136: 14 | V136: 1.0512 | W136: 7 | X136: 1230900 | Y136: 1210900 | Z136: 1374008 | AA136: 477.10796 | AB136: 546.76202 | AC136: 9 | AD136: 0.8531 | AE136: 7 | AF136: 8 | AG136: 6 | AH136: 2
A137: 2023 | B137: 49 | C137: OPĆINSKI SUD U KISELJAKU | D137: 1 | E137: Federation of Bosnia and Herzegovina | F137: Federacija Bosne i Hercegovine | G137: Федерација Босне и Херцеговине | H137: 3388 | I137: 3732 | J137: 2481 | K137: 81.5 | L137: 1.1015348 | M137: 13 | N137: 242.64871 | O137: 2.5 | P137: 396.0391 | Q137: 332.403 | R137: 0.83931865 | S137: 24 | T137: 0.949 | U137: 17 | V137: 1.0888 | W137: 8 | X137: 2399600 | Y137: 2347600 | Z137: 2100288 | AA137: 629.04609 | AB137: 562.77814 | AC137: 9 | AD137: 0.8946 | AE137: 8 | AF137: 11 | AG137: 10 | AH137: 1
A138: 2023 | B138: 56 | C138: OPĆINSKI SUD U KONJICU | D138: 1 | E138: Federation of Bosnia and Herzegovina | F138: Federacija Bosne i Hercegovine | G138: Федерација Босне и Херцеговине | H138: 2875 | I138: 3003 | J138: 1584 | K138: 72.5 | L138: 1.0445217 | M138: 11 | N138: 192.52747 | O138: 3.5 | P138: 295.17992 | Q138: 234.30137 | R138: 0.79375779 | S138: 22 | T138: 0.931 | U138: 16 | V138: 0.8862 | W138: 4 | X138: 2759300 | Y138: 2149300 | Z138: 2196216 | AA138: 715.71762 | AB138: 731.34066 | AC138: 8 | AD138: 0.9222 | AE138: 8 | AF138: 11 | AG138: 11 | AH138: 0
A139: 2023 | B139: 77 | C139: OSNOVNI SUD U PRIJEDORU | D139: 1 | E139: Republika Srpska | F139: Republika Srpska | G139: Република Српска | H139: 5110 | I139: 4575 | J139: 4055 | K139: 75 | L139: 0.89530333 | M139: 8 | N139: 323.51366 | O139: 2 | P139: 265.40109 | Q139: 243.9482 | R139: 0.91916804 | S139: 26 | T139: 0.87 | U139: 13 | V139: 1.2308 | W139: 10 | X139: 2836100 | Y139: 2788100 | Z139: 3083083 | AA139: 609.42077 | AB139: 681.09486 | AC139: 8 | AD139: 0.8922 | AE139: 8 | AF139: 17 | AG139: 13 | AH139: 4
A140: 2023 | B140: 68 | C140: OPĆINSKI SUD U LIVNU | D140: 1 | E140: Federation of Bosnia and Herzegovina | F140: Federacija Bosne i Hercegovine | G140: Федерација Босне и Херцеговине | H140: 4882 | I140: 4974 | J140: 2958 | K140: 70 | L140: 1.0188447 | M140: 11 | N140: 217.06273 | O140: 3 | P140: 381.19486 | Q140: 213.23382 | R140: 0.55938272 | S140: 14 | T140: 0.975 | U140: 19 | V140: 1.0656 | W140: 7 | X140: 3972904 | Y140: 3937904 | Z140: 3759605 | AA140: 791.69763 | AB140: 755.85143 | AC140: 8 | AD140: 0.9347 | AE140: 8 | AF140: 18 | AG140: 15 | AH140: 3
A141: 2023 | B141: 179 | C141: OKRUŽNI PRIVREDNI SUD U PRIJEDORU | D141: 1 | E141: Republika Srpska | F141: Republika Srpska | G141: Република Српска | H141: 311 | I141: 376 | J141: 176 | K141: 66 | L141: 1.2090032 | M141: 15 | N141: 170.85106 | O141: 4 | P141: 403.50568 | Q141: 251.57713 | R141: 0.62347853 | S141: 16 | T141: 0.845 | U141: 12 | V141: 1.2756 | W141: 10 | X141: 716100 | Y141: 711100 | Z141: 1068633 | AA141: 1891.2234 | AB141: 2987.5319 | AC141: 1 | AD141: 0.9379 | AE141: 8 | AF141: 4 | AG141: 3 | AH141: 1
A142: 2023 | B142: 63 | C142: OPĆINSKI SUD U LJUBUŠKOM | D142: 1 | E142: Federation of Bosnia and Herzegovina | F142: Federacija Bosne i Hercegovine | G142: Федерација Босне и Херцеговине | H142: 2940 | I142: 2847 | J142: 2604 | K142: 57.5 | L142: 0.96836735 | M142: 9 | N142: 333.84615 | O142: 1.5 | P142: 525.5096 | Q142: 328.37548 | R142: 0.62487057 | S142: 16 | T142: 0.829 | U142: 11 | V142: 0.8402 | W142: 3 | X142: 1531000 | Y142: 1461000 | Z142: 1705490 | AA142: 513.17176 | AB142: 599.04812 | AC142: 9 | AD142: 0.8814 | AE142: 8 | AF142: 10 | AG142: 8 | AH142: 2
...

Sheet Sudovi NEW
A1: Entity | B1: Ime entiteta | C1: Цолумн2 | D1: Court ID | E1: Institucija BH (Latinica) | F1: Institucija BH (Ćirilica) | G1: Institucija EN | H1: Inistance level | I1: Tip instance | J1: Instanc type | K1: Тип инстанце | L1: Nivo Suda | M1: LevelCourt | N1: НивоСуда
A2: Federation of Bosnia and Herzegovina | B2: Federacija Bosne i Hercegovine | C2: Федерација Босне и Херцеговине | D2: 1 | E2: KANTONALNI SUD U BIHAĆU | F2: КАНТОНАЛНИ СУД У БИХАЋУ | G2: CANTONAL COURT IN BIHAĆU | H2: 2 | I2: Kantonalni sud | J2: Cantonal Court | K2: Кантонални суд | L2: Drugi Stepen | M2: Second instance | N2: Други Степен
A3: Federation of Bosnia and Herzegovina | B3: Federacija Bosne i Hercegovine | C3: Федерација Босне и Херцеговине | D3: 2 | E3: KANTONALNI SUD U ODŽAKU | F3: КАНТОНАЛНИ СУД У ОЏАКУ | G3: CANTONAL COURT IN ODŽAK | H3: 2 | I3: Kantonalni sud | J3: Cantonal Court | K3: Кантонални суд | L3: Drugi Stepen | M3: Second instance | N3: Други Степен
A4: Federation of Bosnia and Herzegovina | B4: Federacija Bosne i Hercegovine | C4: Федерација Босне и Херцеговине | D4: 3 | E4: KANTONALNI SUD U TUZLI | F4: КАНТОНАЛНИ СУД У ТУЗЛИ | G4: CANTONAL COURT IN TUZLA | H4: 2 | I4: Kantonalni sud | J4: Cantonal Court | K4: Кантонални суд | L4: Drugi Stepen | M4: Second instance | N4: Други Степен
A5: Federation of Bosnia and Herzegovina | B5: Federacija Bosne i Hercegovine | C5: Федерација Босне и Херцеговине | D5: 4 | E5: KANTONALNI SUD U ZENICI | F5: КАНТОНАЛНИ СУД У ЗЕНИЦИ | G5: CANTONAL COURT IN ZENICA | H5: 2 | I5: Kantonalni sud | J5: Cantonal Court | K5: Кантонални суд | L5: Drugi Stepen | M5: Second instance | N5: Други Степен
A6: Federation of Bosnia and Herzegovina | B6: Federacija Bosne i Hercegovine | C6: Федерација Босне и Херцеговине | D6: 5 | E6: KANTONALNI SUD U GORAŽDU | F6: КАНТОНАЛНИ СУД У ГОРАЖДУ | G6: CANTONAL COURT IN GORAŽDE | H6: 2 | I6: Kantonalni sud | J6: Cantonal Court | K6: Кантонални суд | L6: Drugi Stepen | M6: Second instance | N6: Други Степен
A7: Federation of Bosnia and Herzegovina | B7: Federacija Bosne i Hercegovine | C7: Федерација Босне и Херцеговине | D7: 6 | E7: KANTONALNI SUD U NOVOM TRAVNIKU | F7: КАНТОНАЛНИ СУД У НОВОМ ТРАВНИКУ | G7: CANTONAL COURT IN NOVOM TRAVNIKU | H7: 2 | I7: Kantonalni sud | J7: Cantonal Court | K7: Кантонални суд | L7: Drugi Stepen | M7: Second instance | N7: Други Степен
A8: Federation of Bosnia and Herzegovina | B8: Federacija Bosne i Hercegovine | C8: Федерација Босне и Херцеговине | D8: 7 | E8: KANTONALNI SUD U MOSTARU | F8: КАНТОНАЛНИ СУД У МОСТАРУ | G8: CANTONAL COURT IN MOSTAR | H8: 2 | I8: Kantonalni sud | J8: Cantonal Court | K8: Кантонални суд | L8: Drugi Stepen | M8: Second instance | N8: Други Степен
A9: Federation of Bosnia and Herzegovina | B9: Federacija Bosne i Hercegovine | C9: Федерација Босне и Херцеговине | D9: 8 | E9: KANTONALNI SUD U ŠIROKOM BRIJEGU | F9: КАНТОНАЛНИ СУД У ШИРОКОМ БРИЈЕГУ | G9: CANTONAL COURT IN ŠIROKI BRIJEG | H9: 2 | I9: Kantonalni sud | J9: Cantonal Court | K9: Кантонални суд | L9: Drugi Stepen | M9: Second instance | N9: Други Степен
A10: Federation of Bosnia and Herzegovina | B10: Federacija Bosne i Hercegovine | C10: Федерација Босне и Херцеговине | D10: 9 | E10: KANTONALNI SUD U SARAJEVU | F10: КАНТОНАЛНИ СУД У САРАЈЕВУ | G10: CANTONAL COURT IN SARAJEVO | H10: 2 | I10: Kantonalni sud | J10: Cantonal Court | K10: Кантонални суд | L10: Drugi Stepen | M10: Second instance | N10: Други Степен
A11: Federation of Bosnia and Herzegovina | B11: Federacija Bosne i Hercegovine | C11: Федерација Босне и Херцеговине | D11: 10 | E11: KANTONALNI SUD U LIVNU | F11: КАНТОНАЛНИ СУД У ЛИВНУ | G11: CANTONAL COURT IN LIVNO | H11: 2 | I11: Kantonalni sud | J11: Cantonal Court | K11: Кантонални суд | L11: Drugi Stepen | M11: Second instance | N11: Други Степен
A12: Republika Srpska | B12: Republika Srpska | C12: Република Српска | D12: 11 | E12: OKRUŽNI SUD U BANJOJ LUCI | F12: ОКРУЖНИ СУД У БАЊОЈ ЛУЦИ | G12: DISTRICT COURT IN BANJOJ LUKA | H12: 2 | I12: Okružni sud | J12: District Court | K12: Окружни суд | L12: Drugi Stepen | M12: Second instance | N12: Други Степен
A13: Republika Srpska | B13: Republika Srpska | C13: Република Српска | D13: 12 | E13: OKRUŽNI SUD U BIJELJINI | F13: ОКРУЖНИ СУД У БИЈЕЉИНИ | G13: DISTRICT COURT IN BIJELJINA | H13: 2 | I13: Okružni sud | J13: District Court | K13: Окружни суд | L13: Drugi Stepen | M13: Second instance | N13: Други Степен
... A83: Republika Srpska | B83: Republika Srpska | C83: Република Српска | D83: 179 | E83: OKRUŽNI PRIVREDNI SUD U PRIJEDORU | F83: ОКРУЖНИ ПРИВРЕДНИ СУД У ПРИЈЕДОРУ | G83: DISTRICT COMMERCIAL COURT IN PRIJEDOR | H83: 1 | I83: Okružni pirvredni sud | J83: District Commerical Court | K83: Окружни пирвредни суд | L83: Prvi Stepen | M83: First instance | N83: Први Степен

Sheet Variable names NEW
A1: Label | B1: Translation BH | C1: Translation BH (Ćirilica) | D1: Translation EN | E1: DescriptionBH | F1: DescriptionBH (Ćirilica) | G1: Description EN | H1: Colonne1 | I1: Colonne2 | J1: Colonne3 | K1: Colonne4 | L1: Colonne5 | M1: Colonne6 | N1: Colonne7 | O1: Colonne8 | P1: Colonne9 | Q1: Colonne10 | R1: Colonne11 | S1: Colonne12 | T1: Colonne13 | U1: Colonne14 | V1: Colonne15 | W1: Colonne16 | X1: Colonne17 | Y1: Colonne18 | Z1: Colonne19
A2: Entity | B2: Ime entiteta | C2: Име ентитета | D2: Entity | E2: Test description BH | G2: Test description EN
A3: Godina | B3: Godina | C3: Година | D3: Year | E3: Test description BH | G3: Test description EN
A4: ID INSTITUCIJE | B4: ID Institucije | C4: ИД Институције | D4: Court ID | E4: Test description BH | G4: Test description EN
A5: INDIKATOR1 | B5: Koeficijent protoka | C5: Коефицијент протока | D5: Clearance Rate | E5: Koeficijent protoka označava koliko je sud riješio predmeta u toku godine naspram novopreimljenih predmeta u nevedenoj godini. | F5: Коефицијент протока означава колико је суд ријешио предмета у току године наспрам новопреимљених предмета у неведеној години. | G5: Clearance rate is the ratio between Solved Cases during the year vs. New incoming Cases during the same year.
A6: INDIKATOR1_BODOVI | B6: Koeficijent protoka (Bodovi) | C6: Коефицијент протока (Бодови) | D6: Clearance Rate (Points) | E6: Broj bodova koji se dodjeljuje na osnovu Koeficijenta protoka. Broj Bodova je ranije definiran po skali i nosi maksimalno 15 bodova (ili 15% od ukupnog broja bodova) | F6: Број бодова који се додјељује на основу Коефицијента протока. Број Бодова је раније дефиниран по скали и носи максимално 15 бодова (или 15% од укупног броја бодова) | G6: The Number of point according with the Clearance Rate. Number of Points is defined earlier i can be max. 15 points (15% of the Total Number of Points)
A7: INDIKATOR2 | B7: DT - Vrijeme rijesavanja predmeta | C7: ДТ - Вријеме ријешавања предмета | D7: Disposition Time (Days) | E7: DT – “Disposition time” ili Obrt svih predmeta u sudu stavlja u omjer ukupan broj riješenih predmeta u odnosu na sve neriješene predmete kroz 365 dana koliko traje jedna godina. Ovaj indikator se izražava u broju dana i nosi najviše 5 bodova (5%). | F7: ДТ – “Диспоситион тиме” или Обрт свих предмета у суду ставља у омјер укупан број ријешених предмета у односу на све неријешене предмете кроз 365 дана колико траје једна година. Овај индикатор се изражава у броју дана и носи највише 5 бодова (5%). | G7: DT - "Disposition time" or Ratio of all Solved cases in one court vs. Backlog during 365 days (Length of 1 - one Year). This Index is expressed in days and can be ma. 5 points (5%)
A8: INDIKATOR2_BODOVI | B8: DT - Vrijeme rijesavanja predmeta (Bodovi) | C8: ДТ - Вријеме ријешавања предмета (Бодови) | D8: Disposition Time (Points) | E8: Ovaj indikator se dodjeljuje po ranije izrađenoj listi i ne može imati više od 5 bodova (5%) u zbiru svih bodova. | F8: Овај индикатор се додјељује по раније израђеној листи и не може имати више од 5 бодова (5%) у збиру свих бодова. | G8: This indice express number of points end is defined earlier but no more than 5 points (5%) in Total number of points.
A9: INDIKATOR3 | B9: Odnos trajanja riješenih i neriješenih predmeta | C9: Однос трајања ријешених и неријешених предмета | D9: Ratio Resolved and Pending Cases | E9: Označava racio između Trajanja riješenih i Trajanja neriješenih predmeta. Označava se u bodovima po ranije definiranoj listi a može biti najviše 30 points (30%) | F9: Означава рацио између Трајања ријешених и Трајања неријешених предмета. Означава се у бодовима по раније дефинираној листи а може бити највише 30 поинтс (30%) | G9: Mark Ratio Duration of Solved Cases vs. Duration of the Backlog. This indicess is expressed in points according with earlier prepared list and may be max. 30 points (30%)
A10: INDIKATOR3_BODOVI | B10: Odnos trajanja riješenih i neriješenih predmeta (Bodovi) | C10: Однос трајања ријешених и неријешених предмета (Бодови) | D10: Ratio Resolved and Pending Cases (Points) | E10: Označava racio između Trajanja riješenih i Trajanja neriješenih predmeta. Označava se u bodovima po ranije definiranoj listi a može biti najviše 30 points (30%) | F10: Означава рацио између Трајања ријешених и Трајања неријешених предмета. Означава се у бодовима по раније дефинираној листи а може бити највише 30 поинтс (30%) | G10: Mark Ratio Duration of Solved Cases vs. Duration of the Backlog. This indicess is expressed in points according with earlier prepared list and may be max. 30 points (30%)
A11: INDIKATOR4 | B11: Realizacija planova | C11: Реализација планова | D11: Realisations of Annual Plan | E11: Označava broj bodova na osnovu na osnovu godišnje realizacije Planova za Riješavanje predmeta. Može imati najviše 20 bodova (20%) | F11: Означава број бодова на основу на основу годишње реализације Планова за Ријешавање предмета. Може имати највише 20 бодова (20%) | G11: Mark Ratio Duration of Solved Cases vs. Duration of the Backlog. This index is expressed in points according with earlier prepared list and may be max. 30 points (30%).
A12: INDIKATOR4_BODOVI | B12: Realizacija planova (Bodovi) | C12: Реализација планова (Бодови) | D12: Realisations of Annual Plan (Points) | E12: Može imati najviše 20 bodova (20%) | F12: Може имати највише 20 бодова (20%) | G12: It may be max. 20 points (20%)
A13: INDIKATOR5 | B13: Ostvarena kolektivna norma suda godine | C13: Остварена колективна норма суда године | D13: Implementation of Annual Court Norm | E13: Predstavlja kolektivnu normu pojedinačnog suda. | F13: Представља колективну норму појединачног суда. | G13: Represent overall Norm of any given court.
A14: INDIKATOR5_BODOVI | B14: Ostvarena kolektivna norma suda godine (Bodovi) | C14: Остварена колективна норма суда године (Бодови) | D14: Implementation of Annual Court Norm (Points) | E14: Može imati najviše 20 bodova (20%) | F14: Може имати највише 20 бодова (20%) | G14: It may be max. 20 points (20%)
A15: INDIKATOR6 | B15: Trošak suda po jednom riješenom predmetu (Izvršenje budžeta bez kapitalnih ulaganja) - BAM | C15: Трошак суда по једном ријешеном предмету (Извршење буџета без капиталних улагања) - БАМ | D15: Cost per Cases of Implemented Budget - BAM | E15: Ovaj iznos se dobija kada izračuna izvršenje naspram broj riješenih predmeta u jednom sudu (bez kapitalnih ulaganja). | F15: Овај износ се добија када израчуна извршење наспрам број ријешених предмета у једном суду (без капиталних улагања). | G15: This amount is calculated between Implemented budget of any Court vs. number of solved case in one court (without Capital investment).
A16: INDIKATOR6_BODOVI | B16: Trošak suda po jednom riješenom predmetu (Bodovi) | C16: Трошак суда по једном ријешеном предмету (Извршење буџета без капиталних улагања) (Бодови) | D16: Cost per Cases of Implemented Budget (Points) | E16: Ovaj indikator nosi najviše 10 bodova od ukupnog broja bodova po sudu (10%) | F16: Овај индикатор носи највише 10 бодова од укупног броја бодова по суду (10%) | G16: These indices may be max. 10 points from the Total number of points (10%)
... A18: INDIKATOR7_BODOVI | B18: Statistički kvalitet (Bodovi) | C18: Статистички квалитет (Бодови) | D18: Statistical Quality (Points) | E18: Nosi najviše 10 bodova od ukupnog broj bodova (10%) | F18: Носи највише 10 бодова од укупног број бодова (10%) | G18: Represent max. 10 points from the Total number of points.
A19: Institucija | B19: Institucija | C19: Институција | D19: Court
A20: INDIKATOR6 | B20: Trošak suda po jednom riješenom predmetu (Izvršenje budžeta bez kapitalnih ulaganja) - BAM | C20: Трошак суда по једном ријешеном предмету (Извршење буџета без капиталних улагања) - БАМ | D20: Cost per Cases of Implemented Budget - BAM
A21: Nerijeseni | B21: Broj neriješenih predmeta na kraju perioda 31.12 | C21: Број неријешених предмета на крају периода 31.12 | D21: Pending cases 31 Dec
A22: Nivo Suda | B22: Nivo Suda | C22: Ниво Суда | D22: Instance level
A23: Tip Suda | B23: Tip Suda | C23: Тип Суда | D23: Instance type
A24: NPF_Broj popunjenih_pozicija | B24: NPF_Broj popunjenih_pozicija | C24: НПФ_Број попуњених_позиција | D24: Filled position
A25: NPF_Broj_nepopunjenih_pozicija | B25: NPF_Broj_nepopunjenih_pozicija | C25: НПФ_Број_непопуњених_позиција | D25: Unfilled positions
A26: NPF_Broj_sistematizovanih_pozicija | B26: NPF_Broj_sistematizovanih_pozicija | C26: НПФ_Број_систематизованих_позиција | D26: Systematized positions
A27: Odobreni Budget | B27: Odobreni budžet | C27: Одобрени буџет | D27: Approved budget
A28: Odobreni BudgetBez | B28: Odobreni budžet za bez kapitalnih ulaganja (samo troškovi) | C28: Одобрени буџет за без капиталних улагања (само трошкови) | D28: Approved budget without capital investments
A29: Opstina | B29: Ime opstine/grada | C29: Име општине/града | D29: Municipality/city
A30: Priliv | B30: Priliv predmeta | C30: Прилив предмета | D30: Incoming cases
... A34: TrosakpoPredmetuOdobren | B34: Trošak suda po jednom riješenom predmetu (Odobreni budžet bez kap. ulaganja) | C34: Трошак суда по једном ријешеном предмету (Одобрени буџет без кап. улагања) | D34: Cost per cases of approved budget
A35: UKUPNO BODOVI | B35: Indikator Efikasnosti | C35: Индикатор Ефикасности | D35: Efficiency Indicator | E35: Pogledajte metodologiju sastavljanja indikatora efikasnosti na desnoj strani: | F35: Погледајте методологију састављања индикатора ефикасности на десној страни: | G35: Look at the methodology of composition of the efficiency inditator on the right:
A36: 1 - General Title | B36: Indikator Ukupne Efikasnosti | C36: Индикатор Укупне Ефикасности | D36: Overall Efficiency indicator
A37: 2 - General Title | B37: Efikasnost | C37: Ефикасност | D37: Efficiency
A38: 3 - General Title | B38: Ljudski i budžetski resursi | C38: Људски и буџетски ресурси | D38: Human and Budget Resources
A39: 4 - General Title | B39: Indikatori kvaliteta | C39: Индикатори квалитета | D39: Quality indicators
A40: 5 - General Title | B40: Indikatori kvaliteta po tipu predmeta | C40: Индикатори квалитета по типу предмета | D40: Quality indicators by type of case
A41: Legend Details Table | B41: Boja bazirana na maksimalnoj ocjeni | C41: Боја базирана на максималној оцјени | D41: Color based on maximum grade
A42: Average | B42: Prosjek | C42: Просјек | D42: Average
A43: Median | B43: Medijana | C43: Медијанa | D43: Median
A44: SELECT FILTER | B44: ODABERITE FILTER | C44: ОДАБЕРИТЕ ФИЛТЕР | D44: SELECT FILTER
...

Sheet Bodovanje NEW
A1: Oznaka Indikatora na koji se odnosi bodovanje shodno nazivu indikatora u excel indikatora efikasnosti | B1: Nivo suda | C1: Bodovi | D1: Rang od | E1: Rang do
A2: INDIKATOR1 | C2: 15 | D2: >=121 | G2: >120
A3: INDIKATOR1 | C3: 14 | D3: 114 | E3: <=120 | G3: a
A4: INDIKATOR1 | C4: 13 | D4: 110 | E4: <=113 | G4: a
A5: INDIKATOR1 | C5: 12 | D5: 106 | E5: <=109 | G5: a
A6: INDIKATOR1 | C6: 11 | D6: 102 | E6: <=105 | G6: b
A7: INDIKATOR1 | C7: 10 | D7: 98 | E7: <=101 | G7: b
A8: INDIKATOR1 | C8: 9 | D8: 94 | E8: <=97 | G8: b
A9: INDIKATOR1 | C9: 8 | D9: 90 | E9: <=93 | G9: c
A10: INDIKATOR1 | C10: 7 | D10: 87 | E10: <=89 | G10: c
A11: INDIKATOR1 | C11: 6 | D11: 84 | E11: <=86 | G11: c
A12: INDIKATOR1 | C12: 5 | D12: 81 | E12: <=83 | G12: d
A13: INDIKATOR1 | C13: 4 | D13: 79 | E13: <=80 | G13: d
A14: INDIKATOR1 | C14: 3 | D14: 76 | E14: <=78 | G14: d
... A16: INDIKATOR1 | C16: 1 | D16: 70 | E16: <=72 | G16: e
A17: INDIKATOR1 | C17: 0 | D17: <=69 | G17: e
A18: INDIKATOR2 | B18: 2 | C18: 0 | E18: >=444
A19: INDIKATOR2 | B19: 2 | C19: 0.5 | D19: 381 | E19: 443
A20: INDIKATOR2 | B20: 2 | C20: 1
A21: INDIKATOR2 | B21: 2 | C21: 1.5
A22: INDIKATOR2 | B22: 2 | C22: 2
A23: INDIKATOR2 | B23: 2 | C23: 2.5
A24: INDIKATOR2 | B24: 2 | C24: 3
A25: INDIKATOR2 | B25: 2 | C25: 3.5
A26: INDIKATOR2 | B26: 2 | C26: 4
A27: INDIKATOR2 | B27: 2 | C27: 4.5
A28: INDIKATOR2 | B28: 2 | C28: 5 | D28: <=62
A29: INDIKATOR2 | B29: 1 | C29: 0 | E29: >=485
A30: INDIKATOR2 | B30: 1 | C30: 0.5 | D30: 433 | E30: 484
A31: INDIKATOR2 | B31: 1
A32: INDIKATOR2 | B32: 1
A33: INDIKATOR2 | B33: 1
A34: INDIKATOR2 | B34: 1
A35: INDIKATOR2 | B35: 1
A36: INDIKATOR2 | B36: 1
A37: INDIKATOR2 | B37: 1
A38: INDIKATOR2 | B38: 1
A39: INDIKATOR2 | B39: 1 | C39: 5 | D39: <=127
A40: INDIKATOR3 | C40: 30 | D40: >=100
A41: INDIKATOR3 | C41: 29 | D41: 98 | E41: <=99
...

Sheet Methodology
A1: Metodologija BH(Latinica) | B1: Методологија БХ(Ћирилица) | C1: Methodology EN
A2: Zahvaljujući uvođenju indikatora efikasnosti, VSTV BiH po prvi put na jedinstven način mjeri radni učinak sudova, uzimajući u obzir skup podataka čiji se rezultati analiziraju i međusobno povezuju, a za razliku od dosadašnjeg pristupa mjerenja rezultata rada koji nije mogao doći do jedinstvene ocjene rezultata rada suda zbog odvojenog praćenja svakog pojedinačnog pokazatelja. Indikatori efikasnosti usvojeni od strane VSTV-a BiH podrazumijevaju 8 pokazatelja, prikazanih na listi kako slijedi: 1. Koeficijent protoka 2. Vrijeme potrebno za rješavanje predmeta (DT) - dana 3. Odnos trajanja riješenih i neriješenih predmeta 4. Procenat realizacije plana rješavanja predmeta 5. Kolektivna norma suda 6. Trošak predmeta 7. Statistički kvalitet 8. Broj nosilaca pravosudnih funkcija Svaki od prethodno navedenih indikatora nosi određeni broj bodova pri čemu se izračunom dolazi do jedinstvenog broja bodova za svaki sud pojedinačno. Ovako definisani indikatori pružaju mogućnost uvida u rezultate svakog pojedinačnog suda, mogućnost poređenja između sudova istog ili različitog nivoa, mogućnost poređenja samo odabrane grupe sudova i sl. | B2: Захваљујући увођењу индикатора ефикасности, ВСТВ БиХ по први пут на јединствен начин мјери радни учинак судова, узимајући у обзир скуп података чији се резултати анализирају и међусобно повезују, а за разлику од досадашњег приступа мјерења резултата рада који није могао доћи до јединствене оцјене резултата рада суда због одвојеног праћења сваког појединачног показатеља. Индикатори ефикасности усвојени од стране ВСТВ-а БиХ подразумијевају 8 показатеља, приказаних на листи како слиједи: 1. Коефицијент протока 2. Вријеме потребно за рјешавање предмета (ДТ) - дана 3. Однос трајања ријешених и неријешених предмета 4. Проценат реализације плана рјешавања предмета 5. Колективна норма суда 6. Трошак предмета 7. Статистички квалитет 8. Број носилаца правосудних функција Сваки од претходно наведених индикатора носи одређени број бодова при чему се израчуном долази до јединственог броја бодова за сваки суд појединачно. Овако дефинисани индикатори пружају могућност увида у резултате сваког појединачног суда, могућност поређења између судова истог или различитог нивоа, могућност поређења само одабране групе судова и сл. | C2: Thanks to the introduction of efficiency indicators, for the first time, the HJPC BiH is measuring the performance of courts in a unique way, taking into consideration the set of data whose results are analysed and interconnected, unlike the previous approach to performance measurement, which was unable to arrive at a single assessment of court performance, due to separate monitoring of every single indicator. The efficiency indicators adopted by the HJPC BiH include eight indicators, presented in the list below: 1. Clearance rate 2. Disposition time (DT) - day 3. Disposition to pending times ratio 4. Backlog reduction plan realisation rate 5. Collective quota achieved by the court 6. Case cost 7. Statistical quality 8. Number of judicial office holders Each of the previously listed indicators carries a certain number of points, whereby a unique number of points is arrived at by calculation for each individual court. The indicators defined in this way give the possibility of insight into the results of every single court, the possibility to make a comparison between the courts of the same or different level, the possibility of comparing just a selected group of courts, etc.

Sheet Sheet1
A3: Row Labels
A4: IZVRŠENJA | C4: ИЗВРШЕЊА
A5: KRIVIČNI | C5: КРИВИЧНИ
A6: PARNIČNO | C6: ПАРНИЧНО
A7: PREKRŠAJNO | C7: ПРЕКРШАЈНО
A8: PRIVREDNO | C8: ПРИВРЕДНО
A9: UPRAVNO | C9: УПРАВНО
A10: VANPARNIČNO | C10: ВАНПАРНИЧНО
A11: ZEMLJIŠNO - KNJIŽNO | C11: ЗЕМЉИШНО - КЊИЖНО
A12: Grand Total | F12: ИЗВРШЕЊА КРИВИЧНИ ПАРНИЧНО ПРЕКРШАЈНО ПРИВРЕДНО УПРАВНО ВАНПАРНИЧНО ЗЕМЉИШНО - КЊИЖНО ЗЕМЉИШНО-КЊИЖНО
F25: Details 5 - Incoming Cases | G25: Primljeni predmeti | H25: Примљени предмети | L25: Details 5 - Incoming Cases | M25: Примљени предмети | O25: Primljeni predmeti
F26: Details 5 - Resolved Cases | G26: Riješeni Predmeti | H26: Ријешени Предмети | L26: Details 5 - Resolved Cases | M26: Ријешени Предмети | O26: Riješeni Predmeti
F27: Details 5 - Clearance Rate (DO NOT USE) | G27: Stopa Ažurnosti | H27: Стопа Ажурности | L27: Details 5 - Pending Cases 31 Dec | M27: Неријешени предмети | O27: Neriješeni predmeti
F28: Details 5 - Pending Cases 31 Dec | G28: Neriješeni predmeti | H28: Неријешени предмети | L28: Details 5 - Resolved Cases - Duration | M28: Трајање Ријешених предмета | O28: Trajanje Riješenih predmeta
F29: Details 5 - Disposition Time (DO NOT USE) | G29: Vrijeme rješavanja predmeta | H29: Вријеме рјешавања предмета | L29: Details 5 - Pending Cases - Duration | M29: Трајање Неријешених предмета | O29: Trajanje Neriješenih predmeta
F30: Details 5 - Resolved Cases - Duration | G30: Trajanje Riješenih predmeta | H30: Трајање Ријешених предмета | L30: Details 5 - Ratio Between Duration Resolved/Pending Cases (DO NOT USE) | M30: Однос Трајања између Ријешених и Неријешених предмета | O30: Odnos Trajanja između Riješenih i Neriješenih predmeta
F31: Details 5 - Pending Cases - Duration | G31: Trajanje Neriješenih predmeta | H31: Трајање Неријешених предмета | L31: Details 5 - Plan | M31: План | O31: Plan
F32: Details 5 - Ratio Between Duration Resolved/Pending Cases (DO NOT USE) | G32: Odnos Trajanja između Riješenih i Neriješenih predmeta | H32: Однос Трајања између Ријешених и Неријешених предмета | L32: Details 5 - Resolved from Plans | M32: Ријешени из Плана | O32: Riješeni iz Plana
F33: Details 5 - Plan | G33: Plan | H33: План | L33: Details 5 - Realisation of the Plans - Percentage (DO NOT USE) | M33: Реализација плана (%) | O33: Realizacija plana (%)
F34: Details 5 - Resolved from Plans | G34: Riješeni iz Plana | H34: Ријешени из Плана | L34: Details 5 - Explanation | M34: Можете да кликнете на карту да изаберете различите судове који одговарају регији. Држите Ctrl за одабир више регија истовремено | O34: Možete kliknuti na kartu da odaberete različite sudove koji odgovaraju regiji. Držite Ctrl za odabir više regija istovremeno
F35: Details 5 - Realisation of the Plans - Percentage (DO NOT USE) | G35: Realizacija plana (%) | H35: Реализација плана (%)
F36: Details 5 - Explanation | G36: Možete kliknuti na kartu da odaberete različite sudove koji odgovaraju regiji. Držite Ctrl za odabir više regija istovremeno | H36: Можете да кликнете на карту да изаберете различите судове који одговарају регији. Држите Ctrl за одабир више регија истовремено

Sheet Dashbaord 5 Details
A1: Entity | B1: Court ID | C1: Court | D1: Year | E1: The Type of the Cases (Bh) | F1: The Type of the Cases (Bhc) | G1: The Type of the Cases (English) | H1: Details 5 - Incoming Cases | I1: Details 5 - Resolved Cases | J1: Details 5 - Clearance Rate - % (DO NOT USE) | K1: Details 5 - Pending Cases 31 Dec | L1: Details 5 - Disposition Time - Days (DO NOT USE) | M1: Details 5 - Resolved Cases - Duration (days) | N1: Details 5 - Pending Cases - Duration (days) | O1: Details 5 - Ratio Between Duration Resolved/Pending Cases - % (DO NOT USE) | P1: Details 5 - Plan | Q1: Details 5 - Resolved from Plans | R1: Details 5 - Realisation of the Plans - Percentage (DO NOT USE)
A2: BOSNA I HERCEGOVINA | B2: 114 | C2: SUD BOSNE I HERCEGOVINE | D2: 2023 | E2: IZVRŠENJA | F2: =_xlfn.XLOOKUP(E2,Sheet1!$A$4:$A$11,Sheet1!$C$4:$C$11,"") -> #NAME? | G2: ENFORCEMENT | H2: 411 | I2: 392 | J2: =I2/H2 -> 0.95377129 | K2: 411 | L2: =IFERROR((I2/K2)*365,"") -> 348.12652 | M2: 382.51531 | N2: 741.33577 | O2: =M2/N2 -> 0.51598118 | P2: 96 | Q2: 96 | R2: 1
A3: =A2 -> BOSNA I HERCEGOVINA | B3: 114 | C3: SUD BOSNE I HERCEGOVINE | D3: 2023 | E3: KRIVIČNI | F3: =_xlfn.XLOOKUP(E3,Sheet1!$A$4:$A$11,Sheet1!$C$4:$C$11,"") -> #NAME? | G3: CRIMINAL | H3: 3594 | I3: 3563 | J3: =I3/H3 -> 0.99137451 | K3: 420 | L3: =IFERROR((I3/K3)*365,"") -> 3096.4167 | M3: 37.005894 | N3: 895.69048 | O3: =M3/N3 -> 0.041315493 | P3: 154 | Q3: 146 | R3: 0.94805195
A4: =A3 -> BOSNA I HERCEGOVINA | B4: 114 | C4: SUD BOSNE I HERCEGOVINE | D4: 2023 | E4: PARNIČNO | F4: =_xlfn.XLOOKUP(E4,Sheet1!$A$4:$A$11,Sheet1!$C$4:$C$11,"") -> #NAME? | G4: CIVIL CASES | H4: 570 | I4: 575 | J4: =I4/H4 -> 1.0087719 | K4: 313 | L4: =IFERROR((I4/K4)*365,"") -> 670.52716 | M4: 237.76348 | N4: 255.39297 | O4: =M4/N4 -> 0.93097111 | P4: 202 | Q4: 187 | R4: 0.92574257
A5: =A4 -> BOSNA I HERCEGOVINA | B5: 114 | C5: SUD BOSNE I HERCEGOVINE | D5: 2023 | E5: PRIVREDNO | F5: =_xlfn.XLOOKUP(E5,Sheet1!$A$4:$A$11,Sheet1!$C$4:$C$11,"") -> #NAME? | G5: COMMERCIAL | H5: 2 | I5: 3 | J5: =I5/H5 -> 1.5 | L5: =IFERROR((I5/K5)*365,"") | M5: 315.33333 | O5: =M5/N5 -> #DIV/0! | P5: 1 | Q5: 1 | R5: 1
A6: =A5 -> BOSNA I HERCEGOVINA | B6: 114 | C6: SUD BOSNE I HERCEGOVINE | D6: 2023 | E6: UPRAVNO | F6: =_xlfn.XLOOKUP(E6,Sheet1!$A$4:$A$11,Sheet1!$C$4:$C$11,"") -> #NAME? | G6: ADMINISTRATIVE | H6: 1309 | I6: 1460 | J6: =I6/H6 -> 1.1153552 | K6: 1302 | L6: =IFERROR((I6/K6)*365,"") -> 409.29339 | M6: 413.10959 | N6: 263.07604 | O6: =M6/N6 -> 1.5703049 | P6: 940 | Q6: 940 | R6: 1
A7: =A6 -> BOSNA I HERCEGOVINA | B7: 114 | C7: SUD BOSNE I HERCEGOVINE | D7: 2023 | E7: VANPARNIČNO | F7: =_xlfn.XLOOKUP(E7,Sheet1!$A$4:$A$11,Sheet1!$C$4:$C$11,"") -> #NAME? | G7: NON - LITIGATION | H7: 7 | I7: 6 | J7: =I7/H7 -> 0.85714286 | K7: 1 | L7: =IFERROR((I7/K7)*365,"") -> 2190 | M7: 30.333333 | N7: 51 | O7: =M7/N7 -> 0.59477124 | P7: 1 | Q7: 1 | R7: 1
A8: BRČKO DISTRIKT BOSNE I HERCEGOVINE | B8: 115 | C8: APELACIONI SUD BRČKO DISTRIKTA BIH | D8: 2023 | E8: IZVRŠENJA | F8: =_xlfn.XLOOKUP(E8,Sheet1!$A$4:$A$11,Sheet1!$C$4:$C$11,"") -> #NAME? | G8: ENFORCEMENT | H8: 82 | I8: 76 | J8: =I8/H8 -> 0.92682927 | K8: 20 | L8: =IFERROR((I8/K8)*365,"") -> 1387 | M8: 58.092105 | N8: 109.75 | O8: =M8/N8 -> 0.52931303 | P8: 28 | Q8: 28 | R8: 1
A9: =A8 -> BRČKO DISTRIKT BOSNE I HERCEGOVINE | B9: 115 | C9: APELACIONI SUD BRČKO DISTRIKTA BIH | D9: 2023 | E9: KRIVIČNI | F9: =_xlfn.XLOOKUP(E9,Sheet1!$A$4:$A$11,Sheet1!$C$4:$C$11,"") -> #NAME? | G9: CRIMINAL | H9: 106 | I9: 109 | J9: =I9/H9 -> 1.0283019 | L9: =IFERROR((I9/K9)*365,"") | M9: 29.568807 | O9: =M9/N9 -> #DIV/0! | P9: 20 | Q9: 20 | R9: 1
A10: =A9 -> BRČKO DISTRIKT BOSNE I HERCEGOVINE | B10: 115 | C10: APELACIONI SUD BRČKO DISTRIKTA BIH | D10: 2023 | E10: PARNIČNO | F10: =_xlfn.XLOOKUP(E10,Sheet1!$A$4:$A$11,Sheet1!$C$4:$C$11,"") -> #NAME? | G10: CIVIL CASES | H10: 303 | I10: 304 | J10: =I10/H10 -> 1.0033003 | K10: 57 | L10: =IFERROR((I10/K10)*365,"") -> 1946.6667 | M10: 77.710526 | N10: 47.719298 | O10: =M10/N10 -> 1.6284926 | P10: 181 | Q10: 180 | R10: 0.99447514
A11: =A10 -> BRČKO DISTRIKT BOSNE I HERCEGOVINE | B11: 115 | C11: APELACIONI SUD BRČKO DISTRIKTA BIH | D11: 2023 | E11: PREKRŠAJNO | F11: =_xlfn.XLOOKUP(E11,Sheet1!$A$4:$A$11,Sheet1!$C$4:$C$11,"") -> #NAME? | G11: MINOR OFFENCES | H11: 27 | I11: 27 | J11: =I11/H11 -> 1 | K11: 1 | L11: =IFERROR((I11/K11)*365,"") -> 9855 | M11: 29.62963 | N11: 4 | O11: =M11/N11 -> 7.4074074 | P11: 2 | Q11: 2 | R11: 1
A12: =A11 -> BRČKO DISTRIKT BOSNE I HERCEGOVINE | B12: 115 | C12: APELACIONI SUD BRČKO DISTRIKTA BIH | D12: 2023 | E12: PRIVREDNO | F12: =_xlfn.XLOOKUP(E12,Sheet1!$A$4:$A$11,Sheet1!$C$4:$C$11,"") -> #NAME? | G12: COMMERCIAL | H12: 58 | I12: 52 | J12: =I12/H12 -> 0.89655172 | K12: 17 | L12: =IFERROR((I12/K12)*365,"") -> 1116.4706 | M12: 75.057692 | N12: 61.470588 | O12: =M12/N12 -> 1.2210342 | P12: 36 | Q12: 33 | R12: 0.91666667
A13: =A12 -> BRČKO DISTRIKT BOSNE I HERCEGOVINE | B13: 115 | C13: APELACIONI SUD BRČKO DISTRIKTA BIH | D13: 2023 | E13: UPRAVNO | F13: =_xlfn.XLOOKUP(E13,Sheet1!$A$4:$A$11,Sheet1!$C$4:$C$11,"") -> #NAME? | G13: ADMINISTRATIVE | H13: 109 | I13: 89 | J13: =I13/H13 -> 0.81651376 | K13: 35 | L13: =IFERROR((I13/K13)*365,"") -> 928.14286 | M13: 69.94382 | N13: 43.114286 | O13: =M13/N13 -> 1.6222887 | P13: 41 | Q13: 40 | R13: 0.97560976
A14: =A13 -> BRČKO DISTRIKT BOSNE I HERCEGOVINE | B14: 115 | C14: APELACIONI SUD BRČKO DISTRIKTA BIH | D14: 2023 | E14: VANPARNIČNO | F14: =_xlfn.XLOOKUP(E14,Sheet1!$A$4:$A$11,Sheet1!$C$4:$C$11,"") -> #NAME? | G14: NON - LITIGATION | H14: 21 | I14: 22 | J14: =I14/H14 -> 1.047619 | K14: 4 | L14: =IFERROR((I14/K14)*365,"") -> 2007.5 | M14: 65.136364 | N14: 36.25 | O14: =M14/N14 -> 1.7968652 | P14: 10 | Q14: 10 | R14: 1
A15: =A14 -> BRČKO DISTRIKT BOSNE I HERCEGOVINE | B15: 115 | C15: APELACIONI SUD BRČKO DISTRIKTA BIH | D15: 2023 | E15: ZEMLJIŠNO - KNJIŽNO | F15: =_xlfn.XLOOKUP(E15,Sheet1!$A$4:$A$11,Sheet1!$C$4:$C$11,"") -> #NAME? | G15: LAND REGISTRY | H15: 37 | I15: 35 | J15: =I15/H15 -> 0.94594595 | K15: 11 | L15: =IFERROR((I15/K15)*365,"") -> 1161.3636 | M15: 45.457143 | N15: 36.545455 | O15: =M15/N15 -> 1.2438522 | P15: 9 | Q15: 9 | R15: 1
A16: =A15 -> BRČKO DISTRIKT BOSNE I HERCEGOVINE | B16: 116 | C16: OSNOVNI SUD BRČKO DISTRIKTA BIH | D16: 2023 | E16: IZVRŠENJA | F16: =_xlfn.XLOOKUP(E16,Sheet1!$A$4:$A$11,Sheet1!$C$4:$C$11,"") -> #NAME? | G16: ENFORCEMENT | H16: 877 | I16: 1069 | J16: =I16/H16 -> 1.2189282 | K16: 907 | L16: =IFERROR((I16/K16)*365,"") -> 430.19294 | M16: 461.69036 | N16: 484.35722 | O16: =M16/N16 -> 0.95320219 | P16: 893 | Q16: 691 | R16: 0.77379619
A17: =A16 -> BRČKO DISTRIKT BOSNE I HERCEGOVINE | B17: 116 | C17: OSNOVNI SUD BRČKO DISTRIKTA BIH | D17: 2023 | E17: KRIVIČNI | F17: =_xlfn.XLOOKUP(E17,Sheet1!$A$4:$A$11,Sheet1!$C$4:$C$11,"") -> #NAME? | G17: CRIMINAL | H17: 987 | I17: 958 | J17: =I17/H17 -> 0.97061803 | K17: 289 | L17: =IFERROR((I17/K17)*365,"") -> 1209.9308 | M17: 91.009395 | N17: 559.53979 | O17: =M17/N17 -> 0.16265044 | P17: 175 | Q17: 147 | R17: 0.84
A18: =A17 -> BRČKO DISTRIKT BOSNE I HERCEGOVINE | B18: 116 | C18: OSNOVNI SUD BRČKO DISTRIKTA BIH | D18: 2023 | E18: PARNIČNO | F18: =_xlfn.XLOOKUP(E18,Sheet1!$A$4:$A$11,Sheet1!$C$4:$C$11,"") -> #NAME? | G18: CIVIL CASES | H18: 1141 | I18: 1098 | J18: =I18/H18 -> 0.96231376 | K18: 878 | L18: =IFERROR((I18/K18)*365,"") -> 456.45786 | M18: 322.21858 | N18: 318.41913 | O18: =M18/N18 -> 1.0119322 | P18: 805 | Q18: 612 | R18: 0.76024845
A19: =A18 -> BRČKO DISTRIKT BOSNE I HERCEGOVINE | B19: 116 | C19: OSNOVNI SUD BRČKO DISTRIKTA BIH | D19: 2023 | E19: PREKRŠAJNO | F19: =_xlfn.XLOOKUP(E19,Sheet1!$A$4:$A$11,Sheet1!$C$4:$C$11,"") -> #NAME? | G19: MINOR OFFENCES | H19: 1621 | I19: 1500 | J19: =I19/H19 -> 0.92535472 | K19: 477 | L19: =IFERROR((I19/K19)*365,"") -> 1147.7987 | M19: 116.04667 | N19: 93.006289 | O19: =M19/N19 -> 1.2477292 | P19: 358 | Q19: 354 | R19: 0.98882682
A20: =A19 -> BRČKO DISTRIKT BOSNE I HERCEGOVINE | B20: 116 | C20: OSNOVNI SUD BRČKO DISTRIKTA BIH | D20: 2023 | E20: PRIVREDNO | F20: =_xlfn.XLOOKUP(E20,Sheet1!$A$4:$A$11,Sheet1!$C$4:$C$11,"") -> #NAME? | G20: COMMERCIAL | H20: 240 | I20: 331 | J20: =I20/H20 -> 1.3791667 | K20: 184 | L20: =IFERROR((I20/K20)*365,"") -> 656.60326 | M20: 376.25378 | N20: 408.68478 | O20: =M20/N20 -> 0.92064543 | P20: 259 | Q20: 216 | R20: 0.83397683
A21: =A20 -> BRČKO DISTRIKT BOSNE I HERCEGOVINE | B21: 116 | C21: OSNOVNI SUD BRČKO DISTRIKTA BIH | D21: 2023 | E21: UPRAVNO | F21: =_xlfn.XLOOKUP(E21,Sheet1!$A$4:$A$11,Sheet1!$C$4:$C$11,"") -> #NAME? | G21: ADMINISTRATIVE | H21: 118 | I21: 139 | J21: =I21/H21 -> 1.1779661 | K21: 121 | L21: =IFERROR((I21/K21)*365,"") -> 419.29752 | M21: 388.4964 | N21: 273.30579 | O21: =M21/N21 -> 1.4214716 | P21: 142 | Q21: 110 | R21: 0.77464789
A22: =A21 -> BRČKO DISTRIKT BOSNE I HERCEGOVINE | B22: 116 | C22: OSNOVNI SUD BRČKO DISTRIKTA BIH | D22: 2023 | E22: VANPARNIČNO | F22: =_xlfn.XLOOKUP(E22,Sheet1!$A$4:$A$11,Sheet1!$C$4:$C$11,"") -> #NAME? | G22: NON - LITIGATION | H22: 1845 | I22: 1935 | J22: =I22/H22 -> 1.0487805 | K22: 2009 | L22: =IFERROR((I22/K22)*365,"") -> 351.5555 | M22: 264.16124 | N22: 588.08408 | O22: =M22/N22 -> 0.44918958 | P22: 271 | Q22: 204 | R22: 0.75276753
A23: FEDERACIJA BOSNE I HERCEGOVINE | B23: 1 | C23: KANTONALNI SUD U BIHAĆU | D23: 2023 | E23: IZVRŠENJA | F23: =_xlfn.XLOOKUP(E23,Sheet1!$A$4:$A$11,Sheet1!$C$4:$C$11,"") -> #NAME? | G23: ENFORCEMENT | H23: 287 | I23: 288 | J23: =I23/H23 -> 1.0034843 | K23: 30 | L23: =IFERROR((I23/K23)*365,"") -> 3504 | M23: 41.618056 | N23: 29.233333 | O23: =M23/N23 -> 1.4236507 | P23: 103 | Q23: 103 | R23: 1
A24: =A23 -> FEDERACIJA BOSNE I HERCEGOVINE | B24: 1 | C24: KANTONALNI SUD U BIHAĆU | D24: 2023 | E24: KRIVIČNI | F24: =_xlfn.XLOOKUP(E24,Sheet1!$A$4:$A$11,Sheet1!$C$4:$C$11,"") -> #NAME? | G24: CRIMINAL | H24: 713 | I24: 679 | J24: =I24/H24 -> 0.95231417 | K24: 130 | L24: =IFERROR((I24/K24)*365,"") -> 1906.4231 | M24: 61.845361 | N24: 666.87692 | O24: =M24/N24 -> 0.092738793 | P24: 136 | Q24: 132 | R24: 0.97058824
A25: =A24 -> FEDERACIJA BOSNE I HERCEGOVINE | B25: 1 | C25: KANTONALNI SUD U BIHAĆU | D25: 2023 | E25: PARNIČNO | F25: =_xlfn.XLOOKUP(E25,Sheet1!$A$4:$A$11,Sheet1!$C$4:$C$11,"") -> #NAME? | G25: CIVIL CASES | H25: 775 | I25: 798 | J25: =I25/H25 -> 1.0296774 | K25: 123 | L25: =IFERROR((I25/K25)*365,"") -> 2368.0488 | M25: 55.749373 | N25: 41.235772 | O25: =M25/N25 -> 1.3519663 | P25: 431 | Q25: 431 | R25: 1
A26: =A25 -> FEDERACIJA BOSNE I HERCEGOVINE | B26: 1 | C26: KANTONALNI SUD U BIHAĆU | D26: 2023 | E26: PREKRŠAJNO | F26: =_xlfn.XLOOKUP(E26,Sheet1!$A$4:$A$11,Sheet1!$C$4:$C$11,"") -> #NAME? | G26: MINOR OFFENCES | H26: 207 | I26: 191 | J26: =I26/H26 -> 0.92270531 | K26: 28 | L26: =IFERROR((I26/K26)*365,"") -> 2489.8214 | M26: 22.958115 | N26: 23.071429 | O26: =M26/N26 -> 0.99508858 | P26: 42 | Q26: 42 | R26: 1
A27: =A26 -> FEDERACIJA BOSNE I HERCEGOVINE | B27: 1 | C27: KANTONALNI SUD U BIHAĆU | D27: 2023 | E27: PRIVREDNO | F27: =_xlfn.XLOOKUP(E27,Sheet1!$A$4:$A$11,Sheet1!$C$4:$C$11,"") -> #NAME? | G27: COMMERCIAL | H27: 148 | I27: 139 | J27: =I27/H27 -> 0.93918919 | K27: 23 | L27: =IFERROR((I27/K27)*365,"") -> 2205.8696 | M27: 53.769784 | N27: 24.956522 | O27: =M27/N27 -> 2.1545384 | P27: 73 | Q27: 73 | R27: 1
A28: =A27 -> FEDERACIJA BOSNE I HERCEGOVINE | B28: 1 | C28: KANTONALNI SUD U BIHAĆU | D28: 2023 | E28: UPRAVNO | F28: =_xlfn.XLOOKUP(E28,Sheet1!$A$4:$A$11,Sheet1!$C$4:$C$11,"") -> #NAME? | G28: ADMINISTRATIVE | H28: 585 | I28: 566 | J28: =I28/H28 -> 0.96752137 | K28: 197 | L28: =IFERROR((I28/K28)*365,"") -> 1048.6802 | M28: 120.88869 | N28: 98.954315 | O28: =M28/N28 -> 1.2216617 | P28: 341 | Q28: 340 | R28: 0.99706745
A29: =A28 -> FEDERACIJA BOSNE I HERCEGOVINE | B29: 1 | C29: KANTONALNI SUD U BIHAĆU | D29: 2023 | E29: VANPARNIČNO | F29: =_xlfn.XLOOKUP(E29,Sheet1!$A$4:$A$11,Sheet1!$C$4:$C$11,"") -> #NAME? | G29: NON - LITIGATION | H29: 369 | I29: 352 | J29: =I29/H29 -> 0.95392954 | K29: 69 | L29: =IFERROR((I29/K29)*365,"") -> 1862.029 | M29: 61.997159 | N29: 135.75362 | O29: =M29/N29 -> 0.4566888 | P29: 87 | Q29: 86 | R29: 0.98850575
A30: =A29 -> FEDERACIJA BOSNE I HERCEGOVINE | B30: 1 | C30: KANTONALNI SUD U BIHAĆU | D30: 2023 | E30: ZEMLJIŠNO - KNJIŽNO | F30: =_xlfn.XLOOKUP(E30,Sheet1!$A$4:$A$11,Sheet1!$C$4:$C$11,"") -> #NAME? | G30: LAND REGISTRY | H30: 111 | I30: 121 | J30: =I30/H30 -> 1.0900901 | K30: 9 | L30: =IFERROR((I30/K30)*365,"") -> 4907.2222 | M30: 61.768595 | N30: 41.111111 | O30: =M30/N30 -> 1.5024793 | P30: 55 | Q30: 55 | R30: 1
A31: =A30 -> FEDERACIJA BOSNE I HERCEGOVINE | B31: 5 | C31: KANTONALNI SUD U GORAŽDU | D31: 2023 | E31: IZVRŠENJA | F31: =_xlfn.XLOOKUP(E31,Sheet1!$A$4:$A$11,Sheet1!$C$4:$C$11,"") -> #NAME? | G31: ENFORCEMENT | H31: 22 | I31: 22 | J31: =I31/H31 -> 1 | L31: =IFERROR((I31/K31)*365,"") | M31: 20.545455 | O31: =M31/N31 -> #DIV/0! | P31: 5 | Q31: 5 | R31: 1
A32: =A31 -> FEDERACIJA BOSNE I HERCEGOVINE | B32: 5 | C32: KANTONALNI SUD U GORAŽDU | D32: 2023 | E32: KRIVIČNI | F32: =_xlfn.XLOOKUP(E32,Sheet1!$A$4:$A$11,Sheet1!$C$4:$C$11,"") -> #NAME? | G32: CRIMINAL | H32: 40 | I32: 41 | J32: =I32/H32 -> 1.025 | L32: =IFERROR((I32/K32)*365,"") | M32: 44.609756 | O32: =M32/N32 -> #DIV/0! | P32: 3 | Q32: 3 | R32: 1
A33: =A32 -> FEDERACIJA BOSNE I HERCEGOVINE | B33: 5 | C33: KANTONALNI SUD U GORAŽDU | D33: 2023 | E33: PARNIČNO | F33: =_xlfn.XLOOKUP(E33,Sheet1!$A$4:$A$11,Sheet1!$C$4:$C$11,"") -> #NAME? | G33: CIVIL CASES | H33: 91 | I33: 91 | J33: =I33/H33 -> 1 | L33: =IFERROR((I33/K33)*365,"") | M33: 29.978022 | O33: =M33/N33 -> #DIV/0! | P33: 23 | Q33: 23 | R33: 1
A34: =A33 -> FEDERACIJA BOSNE I HERCEGOVINE | B34: 5 | C34: KANTONALNI SUD U GORAŽDU | D34: 2023 | E34: PREKRŠAJNO | F34: =_xlfn.XLOOKUP(E34,Sheet1!$A$4:$A$11,Sheet1!$C$4:$C$11,"") -> #NAME? | G34: MINOR OFFENCES | H34: 13 | I34: 12 | J34: =I34/H34 -> 0.92307692 | K34: 1 | L34: =IFERROR((I34/K34)*365,"") -> 4380 | M34: 42.916667 | N34: 26 | O34: =M34/N34 -> 1.650641 | P34: 4 | Q34: 4 | R34: 1
A35: =A34 -> FEDERACIJA BOSNE I HERCEGOVINE | B35: 5 | C35: KANTONALNI SUD U GORAŽDU | D35: 2023 | E35: PRIVREDNO | F35: =_xlfn.XLOOKUP(E35,Sheet1!$A$4:$A$11,Sheet1!$C$4:$C$11,"") -> #NAME? | G35: COMMERCIAL | H35: 9 | I35: 9 | J35: =I35/H35 -> 1 | L35: =IFERROR((I35/K35)*365,"") | M35: 16.888889 | O35: =M35/N35 -> #DIV/0! | P35: 2 | Q35: 2 | R35: 1
